BEGIN:VCALENDAR
VERSION:2.0
PRODID:-//Gödöllői Evangélikus Egyházközség - ECPv6.15.20//NONSGML v1.0//EN
CALSCALE:GREGORIAN
METHOD:PUBLISH
X-ORIGINAL-URL:https://godollo.lutheran.hu
X-WR-CALDESC:Események Gödöllői Evangélikus Egyházközség
REFRESH-INTERVAL;VALUE=DURATION:PT1H
X-Robots-Tag:noindex
X-PUBLISHED-TTL:PT1H
BEGIN:VTIMEZONE
TZID:Europe/Budapest
BEGIN:DAYLIGHT
TZOFFSETFROM:+0100
TZOFFSETTO:+0200
TZNAME:CEST
DTSTART:20200329T010000
END:DAYLIGHT
BEGIN:STANDARD
TZOFFSETFROM:+0200
TZOFFSETTO:+0100
TZNAME:CET
DTSTART:20201025T010000
END:STANDARD
BEGIN:DAYLIGHT
TZOFFSETFROM:+0100
TZOFFSETTO:+0200
TZNAME:CEST
DTSTART:20210328T010000
END:DAYLIGHT
BEGIN:STANDARD
TZOFFSETFROM:+0200
TZOFFSETTO:+0100
TZNAME:CET
DTSTART:20211031T010000
END:STANDARD
BEGIN:DAYLIGHT
TZOFFSETFROM:+0100
TZOFFSETTO:+0200
TZNAME:CEST
DTSTART:20220327T010000
END:DAYLIGHT
BEGIN:STANDARD
TZOFFSETFROM:+0200
TZOFFSETTO:+0100
TZNAME:CET
DTSTART:20221030T010000
END:STANDARD
BEGIN:DAYLIGHT
TZOFFSETFROM:+0100
TZOFFSETTO:+0200
TZNAME:CEST
DTSTART:20230326T010000
END:DAYLIGHT
BEGIN:STANDARD
TZOFFSETFROM:+0200
TZOFFSETTO:+0100
TZNAME:CET
DTSTART:20231029T010000
END:STANDARD
END:VTIMEZONE
BEGIN:VEVENT
DTSTART;TZID=Europe/Budapest:20211031T100000
DTEND;TZID=Europe/Budapest:20211031T113000
DTSTAMP:20260425T173040
CREATED:20210908T182808Z
LAST-MODIFIED:20210908T182808Z
UID:2834-1635674400-1635679800@godollo.lutheran.hu
SUMMARY:Reformáció napja
DESCRIPTION:Idei évben a reformáció napja (Okt. 31) pont vasárnapra esik\, így Istentisztelet keretében ünnepelhetjük ezt a napot. Szokás szerint a református testvéreinkkel együtt leszünk idei évben is\, de vasárnap lévén Reformátusok és Evangélikusok együtt tartjuk az Istentiszteletet a Gödöllői Református templomban! \nEz azt jelenti\, hogy október 31-én nem lesz Istentisztelet templomunkban!
URL:https://godollo.lutheran.hu/esemeny/reformacio-napja-2/
END:VEVENT
BEGIN:VEVENT
DTSTART;TZID=Europe/Budapest:20211125T180000
DTEND;TZID=Europe/Budapest:20211125T203000
DTSTAMP:20260425T173040
CREATED:20211114T080928Z
LAST-MODIFIED:20211114T080928Z
UID:2866-1637863200-1637872200@godollo.lutheran.hu
SUMMARY:Presbiteri ülés
DESCRIPTION:
URL:https://godollo.lutheran.hu/esemeny/presbiteri-ules-7/
END:VEVENT
BEGIN:VEVENT
DTSTART;VALUE=DATE:20211128
DTEND;VALUE=DATE:20211220
DTSTAMP:20260425T173040
CREATED:20211128T084040Z
LAST-MODIFIED:20211128T084040Z
UID:2878-1638057600-1639958399@godollo.lutheran.hu
SUMMARY:Advent
DESCRIPTION:Minden vasárnap szokás szerint tartjuk az Istentiszteleteket. \nAdvent 3. vasárnapján szeretetvendégség a Templomban!
URL:https://godollo.lutheran.hu/esemeny/advent/
END:VEVENT
BEGIN:VEVENT
DTSTART;TZID=Europe/Budapest:20211212T160000
DTEND;TZID=Europe/Budapest:20211212T180000
DTSTAMP:20260425T173040
CREATED:20210911T072227Z
LAST-MODIFIED:20211205T172949Z
UID:2843-1639324800-1639332000@godollo.lutheran.hu
SUMMARY:Szeretetvendégség - Templomunkban
DESCRIPTION:Meghívott vendég: Albert Anna\, aki énekével fog elbűvölni minket Advent vasárnapján. A templomban tartjuk a szeretetvendégséget\, így nagyobb helyen biztonságosan lehetünk együtt.
URL:https://godollo.lutheran.hu/esemeny/szeretetvendegseg-3/
END:VEVENT
BEGIN:VEVENT
DTSTART;TZID=Europe/Budapest:20211224T160000
DTEND;TZID=Europe/Budapest:20211224T173000
DTSTAMP:20260425T173040
CREATED:20211128T083503Z
LAST-MODIFIED:20211207T213609Z
UID:2874-1640361600-1640367000@godollo.lutheran.hu
SUMMARY:Szenteste 2021
DESCRIPTION:Hagyomány szerint gyermekeink készülnek rövid előadással az estére Szenteste alkalmából. \nAz Istentisztelet után Gödöllőn a templom előtt forralt borozni fogunk\, így lehetünk kicsit együtt reményeink szerint. \nVeresegyház 14:30\nGödöllő 16:00
URL:https://godollo.lutheran.hu/esemeny/szenteste-2021/
END:VEVENT
BEGIN:VEVENT
DTSTART;VALUE=DATE:20211225
DTEND;VALUE=DATE:20211227
DTSTAMP:20260425T173040
CREATED:20211203T192840Z
LAST-MODIFIED:20211207T213738Z
UID:2899-1640390400-1640563199@godollo.lutheran.hu
SUMMARY:Karácsony Dec 25-26
DESCRIPTION:Istentiszteletek \nDec 25 Szombat \n\nVeresegyház 8:30 úrv.\nGödöllő 10:00 úrv.\nIsaszeg 11:45 úrv.\nDec 26 Vasárnap\nVeresegyház 8:30\nGödöllő 10:00 úrv.
URL:https://godollo.lutheran.hu/esemeny/karacsony-dec-25-26/
END:VEVENT
BEGIN:VEVENT
DTSTART;TZID=Europe/Budapest:20211231T180000
DTEND;TZID=Europe/Budapest:20211231T190000
DTSTAMP:20260425T173040
CREATED:20211203T192416Z
LAST-MODIFIED:20211203T192528Z
UID:2897-1640973600-1640977200@godollo.lutheran.hu
SUMMARY:Istentisztelet - Óév - Dec31
DESCRIPTION:Óév búcsúsztató Istentisztelet \nGödöllő 18:00
URL:https://godollo.lutheran.hu/esemeny/istentisztelet-oev-dec31/
END:VEVENT
BEGIN:VEVENT
DTSTART;TZID=Europe/Budapest:20220101T080000
DTEND;TZID=Europe/Budapest:20220101T090000
DTSTAMP:20260425T173040
CREATED:20211128T083758Z
LAST-MODIFIED:20211203T192100Z
UID:2876-1641024000-1641027600@godollo.lutheran.hu
SUMMARY:Újévi Evangélikus séta
DESCRIPTION:Múlt évben nagyszerű emlék maradt mindenkiben\, aki ott volt. Ezt folytatnánk idén is. Helyszín ismét az Erzsébet park. \nTalálkozó január 1-én 8:00-kor az Erzsébet szobornál! \n1 óra könnyű séta\, és odaérhetünk a 10:00-i Istentiszteletre! \n 
URL:https://godollo.lutheran.hu/esemeny/ujevi-evangelikus-seta/
END:VEVENT
BEGIN:VEVENT
DTSTART;TZID=Europe/Budapest:20220101T100000
DTEND;TZID=Europe/Budapest:20220101T110000
DTSTAMP:20260425T173040
CREATED:20211203T192310Z
LAST-MODIFIED:20211203T192310Z
UID:2895-1641031200-1641034800@godollo.lutheran.hu
SUMMARY:Istentisztelet Január 1
DESCRIPTION:Veresegyház 8:30 úrv. \nGödöllő 10:00 úrv.
URL:https://godollo.lutheran.hu/esemeny/istentisztelet-januar-1/
END:VEVENT
BEGIN:VEVENT
DTSTART;TZID=Europe/Budapest:20220102T100000
DTEND;TZID=Europe/Budapest:20220102T113000
DTSTAMP:20260425T173040
CREATED:20211207T214117Z
LAST-MODIFIED:20211207T214117Z
UID:2918-1641117600-1641123000@godollo.lutheran.hu
SUMMARY:Újév Első Vasárnapja - Jan 2
DESCRIPTION:Házaspárok megáldása \nVeresegyház – 8:30 \nGödöllő – 10:00 \nIsaszeg – 11:45
URL:https://godollo.lutheran.hu/esemeny/ujev-elso-vasarnapja-jan-2/
END:VEVENT
BEGIN:VEVENT
DTSTART;VALUE=DATE:20220117
DTEND;VALUE=DATE:20220123
DTSTAMP:20260425T173040
CREATED:20220116T074518Z
LAST-MODIFIED:20220116T074518Z
UID:2996-1642377600-1642895999@godollo.lutheran.hu
SUMMARY:Ökumenikus Imahét
DESCRIPTION:
URL:https://godollo.lutheran.hu/esemeny/okumenikus-imahet-4/
END:VEVENT
BEGIN:VEVENT
DTSTART;TZID=Europe/Budapest:20220303T180000
DTEND;TZID=Europe/Budapest:20220303T200000
DTSTAMP:20260425T173040
CREATED:20220220T162758Z
LAST-MODIFIED:20220220T162758Z
UID:3007-1646330400-1646337600@godollo.lutheran.hu
SUMMARY:Presbiteri - 2021 Zárás
DESCRIPTION:
URL:https://godollo.lutheran.hu/esemeny/presbiteri-2021-zaras/
END:VEVENT
BEGIN:VEVENT
DTSTART;TZID=Europe/Budapest:20220320T110000
DTEND;TZID=Europe/Budapest:20220320T113000
DTSTAMP:20260425T173040
CREATED:20220220T163750Z
LAST-MODIFIED:20220404T210730Z
UID:3017-1647774000-1647775800@godollo.lutheran.hu
SUMMARY:Zárszámadó Közgyűlés
DESCRIPTION:Istentisztelet végén Zárszámadó közgyűlést tartottunk! \nÁtnéztük gyülekezetünk 2021-es főbb számait\nIsmertetésre került a számvevőszék 2021-es év ellenőrzésének beszámolója. A közgyűlés egyhangúlag elfogadta a múlt év zárását és az idei költségvetést. \n 
URL:https://godollo.lutheran.hu/esemeny/zarszamado-kozgyules-2/
END:VEVENT
BEGIN:VEVENT
DTSTART;TZID=Europe/Budapest:20220407T180000
DTEND;TZID=Europe/Budapest:20220407T200000
DTSTAMP:20260425T173040
CREATED:20220220T163025Z
LAST-MODIFIED:20220220T163025Z
UID:3009-1649354400-1649361600@godollo.lutheran.hu
SUMMARY:Presbiteri
DESCRIPTION:
URL:https://godollo.lutheran.hu/esemeny/presbiteri/
END:VEVENT
BEGIN:VEVENT
DTSTART;TZID=Europe/Budapest:20220410T160000
DTEND;TZID=Europe/Budapest:20220410T170000
DTSTAMP:20260425T173040
CREATED:20220221T111852Z
LAST-MODIFIED:20220407T131032Z
UID:3020-1649606400-1649610000@godollo.lutheran.hu
SUMMARY:Szeretetvendégség - Virágvasárnap
DESCRIPTION:Virágvasárnap – Szeretetvendégség 16:00 \nVendégünk: Gulybán Gergely –  Görög Katolikus parókus. Betekintést kaphatunk a Görög katolikus testvéreink életébe\, mindennapjaiba\, megismerhetjük az új parókust. Találkozás a templomunkban 16:00-kor. Innen a beszámoló után átmegyünk a parókiára szeretetvendégségre és szokás szerint megkóstolhatjuk az egymásnak készített finomságokat. \nMindenkit várunk szeretettel! \n  \n 
URL:https://godollo.lutheran.hu/esemeny/szeretetvendegseg-viragvasarnap/
END:VEVENT
BEGIN:VEVENT
DTSTART;VALUE=DATE:20220417
DTEND;VALUE=DATE:20220419
DTSTAMP:20260425T173040
CREATED:20220220T163247Z
LAST-MODIFIED:20220220T163247Z
UID:3013-1650153600-1650326399@godollo.lutheran.hu
SUMMARY:Húsvét
DESCRIPTION:
URL:https://godollo.lutheran.hu/esemeny/husvet-4/
END:VEVENT
BEGIN:VEVENT
DTSTART;TZID=Europe/Budapest:20220430T180000
DTEND;TZID=Europe/Budapest:20220430T180000
DTSTAMP:20260425T173040
CREATED:20220404T170256Z
LAST-MODIFIED:20220427T100817Z
UID:3038-1651341600-1651341600@godollo.lutheran.hu
SUMMARY:Arpeggio Gitártrió koncert - Az orgonáért
DESCRIPTION:Arpeggio Gitár Trió JÓTÉKONYSÁGI KONCERT az ORGONÁÉRT!\n \n \nKorábbi években nagy sikert arattak a templomunkban tartott jótékonysági koncertek. Idei évben koncertsorozatot terveztünk\, amelynek első alkalmán a az országosan is híres és egyedülálló gödöllői Arpeggio Gitár Triót hallgathatjuk meg 2022 Április 30-án.\nhttps://www.facebook.com/Gitarzenekar \nVárunk mindenkit szeretettel\, biztosan óriási élményben lehet részünk!\nA koncert mint mindig ingyenes\, felajánlással a templomunk orgonájának restaurálását támogathatják. \nOrgonánkról bővebben \nGödöllői Szolgálatban megjelent cikk:
URL:https://godollo.lutheran.hu/esemeny/arpeggio-gitarzenekar-koncert-az-orgonaert/
END:VEVENT
BEGIN:VEVENT
DTSTART;TZID=Europe/Budapest:20220514T170000
DTEND;TZID=Europe/Budapest:20220514T180000
DTSTAMP:20260425T173040
CREATED:20220426T220713Z
LAST-MODIFIED:20220426T220713Z
UID:3093-1652547600-1652551200@godollo.lutheran.hu
SUMMARY:William Byrd Énekegyüttes koncertje
DESCRIPTION:William Byrd Énekegyüttes koncertje 17:00 \nA Budapesti énekegyüttes ellátogat hozzánk idén is! Legyünk minél többen! \n 
URL:https://godollo.lutheran.hu/esemeny/william-byrd-enekegyuttes-koncertje/
END:VEVENT
BEGIN:VEVENT
DTSTART;TZID=Europe/Budapest:20220514T170000
DTEND;TZID=Europe/Budapest:20220514T180000
DTSTAMP:20260425T173040
CREATED:20220504T204115Z
LAST-MODIFIED:20220504T204135Z
UID:3105-1652547600-1652551200@godollo.lutheran.hu
SUMMARY:OBEJO Koncert
DESCRIPTION:Inmáron harmadik alkalommal láthatjuk vendégül a William Byard énekegyüttest a templomunkban május 14-én 17:00-i kezdettel.Ezúttal jótékonysági koncertet tartanak az orgonánk felújításáért! \nhttps://www.facebook.com/byrdsingers/ \n \nVárunk mindenkit szeretettel!
URL:https://godollo.lutheran.hu/esemeny/obejo-koncert/
END:VEVENT
BEGIN:VEVENT
DTSTART;TZID=Europe/Budapest:20220602T180000
DTEND;TZID=Europe/Budapest:20220602T200000
DTSTAMP:20260425T173040
CREATED:20220220T163102Z
LAST-MODIFIED:20220220T163102Z
UID:3011-1654192800-1654200000@godollo.lutheran.hu
SUMMARY:Presbiteri
DESCRIPTION:
URL:https://godollo.lutheran.hu/esemeny/presbiteri-2/
END:VEVENT
BEGIN:VEVENT
DTSTART;VALUE=DATE:20220605
DTEND;VALUE=DATE:20220607
DTSTAMP:20260425T173040
CREATED:20220220T163348Z
LAST-MODIFIED:20220220T163348Z
UID:3015-1654387200-1654559999@godollo.lutheran.hu
SUMMARY:Pünkösd
DESCRIPTION:
URL:https://godollo.lutheran.hu/esemeny/punkosd-5/
END:VEVENT
BEGIN:VEVENT
DTSTART;TZID=Europe/Budapest:20220606T180000
DTEND;TZID=Europe/Budapest:20220606T190000
DTSTAMP:20260425T173040
CREATED:20220426T220946Z
LAST-MODIFIED:20220524T205248Z
UID:3095-1654538400-1654542000@godollo.lutheran.hu
SUMMARY:Az evangélikus gyülekezet zenész családjainak koncertje
DESCRIPTION:Milyen színes a Gyülekezetünk! \n4 család\, ahol szinte mindenki zenél\nEgy koncert\, ahol láthatjuk\, hallhatjuk Őket! \nIgazán fantasztikus lesz! \nA pontos időpont hamarosan!
URL:https://godollo.lutheran.hu/esemeny/az-evangelikus-gyulekezet-zenesz-csaladjainak-koncertje/
END:VEVENT
BEGIN:VEVENT
DTSTART;VALUE=DATE:20220615
DTEND;VALUE=DATE:20220620
DTSTAMP:20260425T173040
CREATED:20220412T202949Z
LAST-MODIFIED:20220613T202516Z
UID:3078-1655251200-1655683199@godollo.lutheran.hu
SUMMARY:Nyári Tábor 2022 -Érzékek Útján Istenhez
DESCRIPTION:NYÁRI GYERMEK- ÉS IFJÚSÁGI TÁBOR\n\n\n \n\n\nEgyházközség megnevezése: Gödöllői Evangélikus Egyházközség\n\n\nTábor helyszíne: Gödöllő Evangélikus Parókia\n\n\nTábor időpontja: 2022.06.15-2022.06.19\n\n\nTábor témája: Érzékek Útján Istenhez\n\n\n \n\n\n \nSzerda\nCsütörtök\nPéntek\nSzombat\nVasárnap\n\n\nReggeli\n \n \n \n \n \n\n\n9.00 \nDélelőtti \nprogram \n  \n10.00 \n  \n11.00\n \nÁHITAT( Téma: HALLÁS- \n5MÓZ 32\,1 \nRM 10\,14-17 \n  \nCSOPORTFOGLAKOZÁS \nZENESAROK \nÜtős Zenei játékok \nSZITHA MIKLÓSSAL \n \nÁHITAT(Téma: LÁTÁS- \nZS 121\,1-2 \nZS 33\,13 \nMK 10\,46-52 \n  \nCSOPORTFOGLALKOZÁS\nÁHITAT ( Téma: SZAGLÁS- \n1 MÓZ 8\,21 \n1KOR 12\,17 \n  \nCSOPORTFOGLALKOZÁS\nTANÉVZÁRÓ \nISTENTISZTELET \n10.00 \nEvangéliku LÁTHATATLAN SZINHÁZ GYEREKEKNEK A TEMPLOMBAN \nMóricz Bálint szervezésében s Templom\n\n\nEbéd12.30\n \n \n \n \n \n\n\n  \nDélutáni \nprogram \n  \n15.00 \n  \n  \n  \n  \n  \n  \n  \n  \n  \n  \n  \n \nISMERKEDŐS JÁTÉKOK-Kézműveskedés \nCSOPORT BEOSZTÁS \nSORVERSENYEK \nKriszt Kató vezetésével \n  \nÁHITAT( Téma: ÉRINTÉS-és ÁLDÁS MK10\,13-16. \nÉRINTÉS-és HIT JN20\,24-28 \nÉRINTÉS és GYÓGYULÁS \nMT 8\,1-2 \n  \n \nKÉZMŰVESKEDÉS \nVirág Eszterrel \n  \nMese-Fa \n  \n  \n \nKÉZMŰVESKEDÉS \nVirág Eszterrel \n  \nMese-Fa \n  \n  \nLÁTHATATLAN SZINHÁZ GYEREKEKNEK A TEMPLOMBAN \nMóricz Bálint szervezésében \n \nKÉZMŰVESKEDÉS \nVirág Eszterrel \n  \nMese-Fa \n  \n  \nLOVAGLÁS \nAlbert Gábor vezetésével \n  \n  \nÍJÁSZKODÁS \nPapp Máté vezetésével\n \n\n\nUzsonna\n \nFánk sütés\n \n \n \n\n\nEsti program\nÉNEKLÉS \nZÁRÓ ÁHITAT\nÉNEKLÉS \nZÁRÓ ÁHITAT\nÉNEKLÉS \nZÁRÓ ÁHITAT\nÉNEKLÉS \nZÁRÓ ÁHITAT\n \n\n\n\n  \nIdén nem a szokásos – nyár végi – időben tartjuk a táborunkat ! A végéről az elejére kerül a tábor\, tehát egyből az iskolaszünetet ezzel kezdjük: \nÉrzékek Útján Istenhez – EVANGÉLIKUS HITTAN TÁBOR – Június 15 – 19\nJúni 19-én tanévzáró Istentisztelettel zárjuk a tábort és a tanévet! \nIdén is max 40 fő táborozását tudjuk megoldani!! \nHelyszín: Gödöllői Evangélikus Parókia – Kossuth L.u2 \nJELENTKEZÉSI HATÁRIDŐ: 2022 május 31 !!! \nNapi beosztás: reggel 8.30-tól  délután 17.00-ig\nA tábor során lesz sok sok játék\, kiscsoportos foglalkozás\, lovaglás\, kézműveskedés\, áhitat\, és zenélés! \n \nRészvétel gyülekezetünk gyermekei részére:\nTábori költségek: 8500 Ft/ fő\, testvér kedvezményre van lehetőség \n(2 testvér: 12.500 Ft\, 3 testvér: 17000 Ft) \nJelentkezés Joób Emesénél emailben (emesejoob@gmail.com) v. személyesen az alábbiak szerint: \n\nA mellékelt jelenkezési lapot kérjük kitölteni\, aláírni és emailen elküldeni v. behozni. HittanTábor_JELENTKEZÉSI-LAP2022\nA részvételi díjat kérjük átutalni a gyülekezet 11742049-20126302 számlaszámára\, megjegyzés rovatba kérjük: “Adomány tábor ’20 + Gyermek neve” vagy személyesen Joób Emesénél illetve Pénztárosunknál lehet befizetni.\n\n  \n 
URL:https://godollo.lutheran.hu/esemeny/nyari-tabor-2022/
END:VEVENT
BEGIN:VEVENT
DTSTART;TZID=Europe/Budapest:20220619T100000
DTEND;TZID=Europe/Budapest:20220619T110000
DTSTAMP:20260425T173040
CREATED:20220524T205839Z
LAST-MODIFIED:20220524T205839Z
UID:3121-1655632800-1655636400@godollo.lutheran.hu
SUMMARY:Énekkarunk 20 éves
DESCRIPTION:Különleges Istentisztelet keretében ünnepli énekkarunk fennállásának 20. évfordulóját június 19-én vasárnap. Az Istentisztelet alatti énekek a korábbi évek repertoárjából hangzanak el és az elmúlt  20 év karvezetői is ott lesznek velünk! \nLegyünk minél többen ezen a különleges nyárindító Istentiszteleten!
URL:https://godollo.lutheran.hu/esemeny/enekkarunk-20-eves/
END:VEVENT
BEGIN:VEVENT
DTSTART;VALUE=DATE:20220904
DTEND;VALUE=DATE:20220905
DTSTAMP:20260425T173040
CREATED:20220925T063807Z
LAST-MODIFIED:20220925T063807Z
UID:3181-1662249600-1662335999@godollo.lutheran.hu
SUMMARY:Gyülekezeti nap
DESCRIPTION:
URL:https://godollo.lutheran.hu/esemeny/gyulekezeti-nap-3/
END:VEVENT
BEGIN:VEVENT
DTSTART;VALUE=DATE:20220917
DTEND;VALUE=DATE:20220922
DTSTAMP:20260425T173040
CREATED:20220619T200639Z
LAST-MODIFIED:20220822T200545Z
UID:3151-1663372800-1663804799@godollo.lutheran.hu
SUMMARY:Finn testvérgyülekezet látogatás
DESCRIPTION:Idei évben meghívást kaptunk a Finnországi Forssai Gyülekezetől\, akik idén ünneplik megalakulásuk 100. évfordulóját. \nIndulás szept 17-én szombaton\nHazajövetel Szept 21-én \nIdén 14-en képviseljük gyülekezetünket. A Kis csoport részt vesz az ünnepi koncerten\, vasárnapi Istentiszteleten. Szállásunk a Forssai gyülekezet tóparti táborában lesz\, amely ideális helyszín a találkozásra\, beszélgetésre\, együttlétre\, elmélyülésre. Utolsó nap Helszinkit nézzük meg\, majd az esti géppel indulunk haza. \n 
URL:https://godollo.lutheran.hu/esemeny/finn-testvergyulekezet-latogatas/
END:VEVENT
BEGIN:VEVENT
DTSTART;TZID=Europe/Budapest:20221015T190000
DTEND;TZID=Europe/Budapest:20221015T210000
DTSTAMP:20260425T173040
CREATED:20221006T214540Z
LAST-MODIFIED:20221006T214540Z
UID:3204-1665860400-1665867600@godollo.lutheran.hu
SUMMARY:Swinging Quartett és a Küszöb zenekar közös koncertje
DESCRIPTION:HÍVOGATÓ!!!\nÉrdekes és Evangélikus „kötődésű” koncertre szeretnénk hívni minden gyülekezeti tagunkat a Muza-ba október 15-én 19:00 kezdettel. \nKertész Mátyás (Kertész Botod kántorunk fia) csellista játszik de többek között fellép országos felügyelőnk Prőhle Gergely is zongorán. Gergely tényleg piszok jól zongorázik (mindkét szülője zenész volt) és nagyon otthon van a dzsessz stílusban. Már korábban is felléptek együtt\, Matyiékkal az evangélikus múzeumban játszottak közösen a múzeumok éjszakáján – ezek szerint mindkét fél nagy-nagy örömére és megelégedésére. \nEgy érdekes cikk országos felügyelőnkkel zenei karrierjéről: \nhttps://infostart.hu/kultura/2017/11/23/filmszeruen-indult-a-studium-dixiland-band-karrierje \nA studium tagjainak nagy része (többek között a vezető\, Rókusfalvi Pál\, aki most éppen sok egyéb mellett a bormarketingért felelős miniszteri biztos) a kelenföldi evangélikus gyülekezet ifjúságából verbuválódott. \n\nA Küszöb izgalmas és minőségi rock zenét játszik erős népi beütéssel\nA swinging (most Gergellyel kiegészítve) pedig klasszikus dzsesszt\, ami kifejezetten nagyon jó hangulatú örömzene\n\nhttps://muza.hu/programok-swinging-quartet-es-kuszob-koncert-2022-10-15-19-00-ora
URL:https://godollo.lutheran.hu/esemeny/swinging-quartett-es-a-kuszob-zenekar-kozos-koncertje/
END:VEVENT
BEGIN:VEVENT
DTSTART;VALUE=DATE:20221022
DTEND;VALUE=DATE:20221023
DTSTAMP:20260425T173040
CREATED:20220925T062021Z
LAST-MODIFIED:20221018T155712Z
UID:3170-1666396800-1666483199@godollo.lutheran.hu
SUMMARY:Őszi kirándulás
DESCRIPTION:Kedves Testvérek ! \nŐsszel szokás szerint kirándulni megyünk! Ezúttal több közeli\, de érdekes helyszínt látogathatnak meg azok\, akik velünk tartanak október 22 szombatján. \n\nIndulás: 9:00 a Muza parkolóból\, találkozó 8:50\nMátyásföld az első állomás\, az ottani evangélikus templomot és a villaparkot nézzük meg. A Templom különleges fa kazettás födéme egyedülálló.\nInnen a Budafoki Evangélikus Templomot vesszük célba\, kicsit betekinthetünk a gyülekezet életébe.\nSzoborparkra rápillantunk\, majd egy közeli rózsakertbe megyünk\, ahol több hektáron sétálhatunk a rózsák közt\nhagyomány szerint borkóstolással zárunk egy közeli pincesor egyik pincéjében\n\nAz utazás költsége 4000 Ft/fő \, a borkóstoló ezen felül egyénileg választható ( költsége hamarosan itt) \nJelentkezni Dudás Erzsébet testvérünknél vagy a felügyelőné lehet befizetés mellett!
URL:https://godollo.lutheran.hu/esemeny/oszi-kirandulas/
END:VEVENT
BEGIN:VEVENT
DTSTART;TZID=Europe/Budapest:20221030T100000
DTEND;TZID=Europe/Budapest:20221030T110000
DTSTAMP:20260425T173040
CREATED:20221006T212915Z
LAST-MODIFIED:20221017T211426Z
UID:3200-1667124000-1667127600@godollo.lutheran.hu
SUMMARY:Reformáció napja _ Istentisztelet
DESCRIPTION:A Reformáció napját idén egy nappal korábban\, október 30-án Vasárnapon ünnepeljük Református testvéreinkkel együtt\, Istentisztelet keretében. \nA REFORMÁTUS templomban 10:00 kezdettel közös Ünnepi Istentiszteletet tartunk\, így értelem szerűen nem lesz Istentisztelet az Evangélikus templomban! \nAz Istentisztelet után SZERETETVENDÉGSÉG lesz\, aki tud hozzon gyümölcsöt\, italt\, vagy süteményt! \n—————————————————————————— \nEzen a napon ünneplünk és imádkozunk annak emlékére\, hogy a hagyomány szerint 1517-ben ezen a napon függesztette ki Luther Márton a wittenbergi vártemplom ajtajára a bűnbocsátó levelek árusításával kapcsolatos 95 tételét.
URL:https://godollo.lutheran.hu/esemeny/reformacio-napja-_-istentisztelet/
END:VEVENT
BEGIN:VEVENT
DTSTART;TZID=Europe/Budapest:20221126T170000
DTEND;TZID=Europe/Budapest:20221126T183000
DTSTAMP:20260425T173040
CREATED:20220925T062701Z
LAST-MODIFIED:20221101T083626Z
UID:3172-1669482000-1669487400@godollo.lutheran.hu
SUMMARY:MANDÁK kórus koncertje
DESCRIPTION:Jótékonysági koncertsorozat az orgonáért\nÚjabb állomás\, ezúttal ADVENT előtti szombaton november 26-án 17:00-i kezdettel. \nFellép az országosan híres MANDÁK kórus! Karvezetője Kertész Péter\, aki a gyülekezetünk kórusát is vezette éveken át. \n \nJöjjünk el minél többen\, hirdessük ismerőseinknek\, barátainknak ( nem csak evangélikusoknak) \, legyen tele a templomunk!!! \nhttps://www.evangelikus.hu/component/tags/tag/cimkek-mandak-korus
URL:https://godollo.lutheran.hu/esemeny/mandak-korus-koncertje/
END:VEVENT
END:VCALENDAR