BEGIN:VCALENDAR
VERSION:2.0
PRODID:-//Gödöllői Evangélikus Egyházközség - ECPv6.15.20//NONSGML v1.0//EN
CALSCALE:GREGORIAN
METHOD:PUBLISH
X-ORIGINAL-URL:https://godollo.lutheran.hu
X-WR-CALDESC:Események Gödöllői Evangélikus Egyházközség
REFRESH-INTERVAL;VALUE=DURATION:PT1H
X-Robots-Tag:noindex
X-PUBLISHED-TTL:PT1H
BEGIN:VTIMEZONE
TZID:Europe/Budapest
BEGIN:DAYLIGHT
TZOFFSETFROM:+0100
TZOFFSETTO:+0200
TZNAME:CEST
DTSTART:20180325T010000
END:DAYLIGHT
BEGIN:STANDARD
TZOFFSETFROM:+0200
TZOFFSETTO:+0100
TZNAME:CET
DTSTART:20181028T010000
END:STANDARD
BEGIN:DAYLIGHT
TZOFFSETFROM:+0100
TZOFFSETTO:+0200
TZNAME:CEST
DTSTART:20190331T010000
END:DAYLIGHT
BEGIN:STANDARD
TZOFFSETFROM:+0200
TZOFFSETTO:+0100
TZNAME:CET
DTSTART:20191027T010000
END:STANDARD
BEGIN:DAYLIGHT
TZOFFSETFROM:+0100
TZOFFSETTO:+0200
TZNAME:CEST
DTSTART:20200329T010000
END:DAYLIGHT
BEGIN:STANDARD
TZOFFSETFROM:+0200
TZOFFSETTO:+0100
TZNAME:CET
DTSTART:20201025T010000
END:STANDARD
BEGIN:DAYLIGHT
TZOFFSETFROM:+0100
TZOFFSETTO:+0200
TZNAME:CEST
DTSTART:20210328T010000
END:DAYLIGHT
BEGIN:STANDARD
TZOFFSETFROM:+0200
TZOFFSETTO:+0100
TZNAME:CET
DTSTART:20211031T010000
END:STANDARD
END:VTIMEZONE
BEGIN:VEVENT
DTSTART;TZID=Europe/Budapest:20191210T173000
DTEND;TZID=Europe/Budapest:20191210T183000
DTSTAMP:20260425T232445
CREATED:20191207T171002Z
LAST-MODIFIED:20191207T171002Z
UID:2291-1575999000-1576002600@godollo.lutheran.hu
SUMMARY:Ádventi készülődés a premontrei testvérekkel
DESCRIPTION:Helyszín: Gödöllő Premontrei gimnázium \nIdőpont: 17:30 \n  \n 
URL:https://godollo.lutheran.hu/esemeny/adventi-keszulodes-a-premontrei-testverekkel/
END:VEVENT
BEGIN:VEVENT
DTSTART;TZID=Europe/Budapest:20191215T160000
DTEND;TZID=Europe/Budapest:20191215T180000
DTSTAMP:20260425T232445
CREATED:20191203T080859Z
LAST-MODIFIED:20191205T092951Z
UID:2271-1576425600-1576432800@godollo.lutheran.hu
SUMMARY:Advent 3 - Szeretetvendégség
DESCRIPTION:Advent 3. Vasárnapján 16:00 kezdettel  \nA Templomban gyűlünk össze és kezdődik Roszík Ágnes vendégünk előadása\, majd onnan megyünk át a parókiára! \nReméljük minél többen leszünk! \nSzokás szerint házi készítésű szendviccsel\, süteménnyel\, vagy üdítővel\, gyümölccsel lehet készülni! \nVárunk mindenkit szeretettel! \n 
URL:https://godollo.lutheran.hu/esemeny/advent-3-szeretetvendegseg/
END:VEVENT
BEGIN:VEVENT
DTSTART;TZID=Europe/Budapest:20191224T160000
DTEND;TZID=Europe/Budapest:20191224T180000
DTSTAMP:20260425T232445
CREATED:20191203T081324Z
LAST-MODIFIED:20191203T081324Z
UID:2275-1577203200-1577210400@godollo.lutheran.hu
SUMMARY:Karácsony - Szenteste
DESCRIPTION:Istentisztelet: \n14:30 – Veresegyház \n16:00 – Gödöllő (szokás szerint Istentisztelet után forraltborozás)
URL:https://godollo.lutheran.hu/esemeny/karacsony-szenteste-3/
END:VEVENT
BEGIN:VEVENT
DTSTART;VALUE=DATE:20191225
DTEND;VALUE=DATE:20191227
DTSTAMP:20260425T232445
CREATED:20181226T222128Z
LAST-MODIFIED:20191203T081425Z
UID:2036-1577232000-1577404799@godollo.lutheran.hu
SUMMARY:Karácsony
DESCRIPTION:2019.12.25\nKarácsony\nVeresegyház \nGödöllő \nIsaszeg\n08.30 \n10.00 \n11.45\núrv. \núrv. \núrv.\n\n\n2019.12.26\nKarácsony\nVeresegyház Gödöllő\n08.30 \n10.00\n  \núrv.
URL:https://godollo.lutheran.hu/esemeny/karacsony/
END:VEVENT
BEGIN:VEVENT
DTSTART;TZID=Europe/Budapest:20191229T080000
DTEND;TZID=Europe/Budapest:20191229T120000
DTSTAMP:20260425T232445
CREATED:20191210T220531Z
LAST-MODIFIED:20191210T220531Z
UID:2298-1577606400-1577620800@godollo.lutheran.hu
SUMMARY:Házastársak vasárnapja
DESCRIPTION:Veresegyház 8:30 \nGödöllő 10:00 \nIsaszeg 11.45
URL:https://godollo.lutheran.hu/esemeny/hazastarsak-vasarnapja/
END:VEVENT
BEGIN:VEVENT
DTSTART;TZID=Europe/Budapest:20191231T180000
DTEND;TZID=Europe/Budapest:20191231T183000
DTSTAMP:20260425T232445
CREATED:20191210T220633Z
LAST-MODIFIED:20191210T220633Z
UID:2300-1577815200-1577817000@godollo.lutheran.hu
SUMMARY:Óév Istentisztelet
DESCRIPTION:Gödöllő 18:00
URL:https://godollo.lutheran.hu/esemeny/oev-istentisztelet/
END:VEVENT
BEGIN:VEVENT
DTSTART;TZID=Europe/Budapest:20200101T080000
DTEND;TZID=Europe/Budapest:20200101T120000
DTSTAMP:20260425T232445
CREATED:20191210T220822Z
LAST-MODIFIED:20191210T220822Z
UID:2302-1577865600-1577880000@godollo.lutheran.hu
SUMMARY:Újévi Istentisztelet - úrv.
DESCRIPTION:Veresegyház 8:30 \nGödöllő 10:00 \nIsaszeg 11.45
URL:https://godollo.lutheran.hu/esemeny/ujevi-istentisztelet-urv-2/
END:VEVENT
BEGIN:VEVENT
DTSTART;VALUE=DATE:20200119
DTEND;VALUE=DATE:20200127
DTSTAMP:20260425T232445
CREATED:20191210T220303Z
LAST-MODIFIED:20200119T083207Z
UID:2296-1579392000-1580083199@godollo.lutheran.hu
SUMMARY:Ökumenikus imahét
DESCRIPTION:Szokás szerint ezen a héten Ökumenikus imahétre kerül sor.
URL:https://godollo.lutheran.hu/esemeny/okumenikus-imahet-3/
END:VEVENT
BEGIN:VEVENT
DTSTART;TZID=Europe/Budapest:20200220T180000
DTEND;TZID=Europe/Budapest:20200220T200000
DTSTAMP:20260425T232445
CREATED:20200131T220640Z
LAST-MODIFIED:20200131T220640Z
UID:2337-1582221600-1582228800@godollo.lutheran.hu
SUMMARY:Presbiteri ülés
DESCRIPTION:Számvevőszéki beszámoló \nZárszámadás elfogadás Gödöllő és Veresegyháza
URL:https://godollo.lutheran.hu/esemeny/presbiteri-ules-6/
END:VEVENT
BEGIN:VEVENT
DTSTART;TZID=Europe/Budapest:20200308T110000
DTEND;TZID=Europe/Budapest:20200308T113000
DTSTAMP:20260425T232445
CREATED:20200131T220458Z
LAST-MODIFIED:20200131T220458Z
UID:2335-1583665200-1583667000@godollo.lutheran.hu
SUMMARY:Zárszámadó közgyűlés tervezett időpontja
DESCRIPTION:
URL:https://godollo.lutheran.hu/esemeny/zarszamado-kozgyules-tervezett-idopontja/
END:VEVENT
BEGIN:VEVENT
DTSTART;TZID=Europe/Budapest:20200322T100000
DTEND;TZID=Europe/Budapest:20200322T110000
DTSTAMP:20260425T232445
CREATED:20200327T174413Z
LAST-MODIFIED:20200327T174413Z
UID:2365-1584871200-1584874800@godollo.lutheran.hu
SUMMARY:Március 22 Online Istentisztelet
DESCRIPTION:Március 22 VASÁRNAP —\nONLINE – VIDEON keresztüli  ISTENTISZTELET lesz látható 10:00-tól:\n \n \nÉnekeskönyv: 364 ; 3 \ntovábbi énekek: \n1. Atyám\, két kezedben\, csak ott lakhatom.\nBiztonságot csak tőled kapok.\nÚjjá így teremtesz\, sebem ápolod.\nBoldogság\, hogy itt van otthonom!\nTarts meg két kezedben\, őrizz meg\, Uram!\nOltalmadban rejtsd el sorsomat! \n2. Atyám\, két kezedben teljes az öröm\,\nAjándékodban gyönyörködöm.\nTékozlóként éltem\, tárva most karod\,\nHűtlenségem nem hánytorgatod.\nRefr. \n3. Atyám\, két kezedben bátran sírhatok\,\nFájdalmaim hordozod\, tudom.\nOtt fönn a kereszten\, áldó két kezed\,\nBűneimmel én szegeztem fel.\nRefr. \nZáróének: \nTégy eggyé Urunk!\nHogy meglássa a világ hogy eljöttél\, tégy eggyé Urunk!\nÓ mily szép mily gyönyörűséges a testvérekkel egységben lenni !\nAz Úr áldása bőven ömlik ránk \, mint túlcsorduló olaj. \nOffertórium (perselypénz) befizetésre átutalással van most lehetőség vagy később is be lehet dobni a perselybe Egyházközségünk számára. \n„offertórium” megjelöléssel – számlaszám: 11742049-20126302.
URL:https://godollo.lutheran.hu/esemeny/marcius-22-online-istentisztelet/
END:VEVENT
BEGIN:VEVENT
DTSTART;TZID=Europe/Budapest:20200329T100000
DTEND;TZID=Europe/Budapest:20200329T103000
DTSTAMP:20260425T232445
CREATED:20200404T184841Z
LAST-MODIFIED:20200404T184841Z
UID:2373-1585476000-1585477800@godollo.lutheran.hu
SUMMARY:Március 29 Online Istentisztelet
DESCRIPTION:Március 29 VASÁRNAP —\nIsmételten ONLINE – VIDEON keresztüli  ISTENTISZTELET lesz látható 10:00-tól:\n \n \nÉnek: 337 ; 4
URL:https://godollo.lutheran.hu/esemeny/marcius-29-online-istentisztelet/
END:VEVENT
BEGIN:VEVENT
DTSTART;TZID=Europe/Budapest:20200405T100000
DTEND;TZID=Europe/Budapest:20200405T110000
DTSTAMP:20260425T232445
CREATED:20200411T213952Z
LAST-MODIFIED:20200411T213952Z
UID:2398-1586080800-1586084400@godollo.lutheran.hu
SUMMARY:Április 5. Istentisztelet
DESCRIPTION:Április 5 VIRÁGVASÁRNAP\n \n \nÉnekeskönyv: 209;3;11;\nVirágvasárnapi Áhítat: Ide kattintva
URL:https://godollo.lutheran.hu/esemeny/aprilis-5-istentisztelet/
END:VEVENT
BEGIN:VEVENT
DTSTART;TZID=Europe/Budapest:20200405T160000
DTEND;TZID=Europe/Budapest:20200405T170000
DTSTAMP:20260425T232445
CREATED:20200315T182207Z
LAST-MODIFIED:20200404T184451Z
UID:2348-1586102400-1586106000@godollo.lutheran.hu
SUMMARY:Szeretetvendégség - ELMARAD!
DESCRIPTION:Virágvasárnapi szeretetvendégségünk vendége lett volna gyülekezetünk tagja\, Danis János. Sajnos a vírus okozta helyzet miatt idén ez elmarad. \nNyugdíjas villamosmérnök\, fotóművész. Fotós munkássága alatt számtalan díjat kapott\, rendszeresen láthatók kiállításai.\n.
URL:https://godollo.lutheran.hu/esemeny/szeretetvendegseg-2/
END:VEVENT
BEGIN:VEVENT
DTSTART;TZID=Europe/Budapest:20200410T100000
DTEND;TZID=Europe/Budapest:20200410T110000
DTSTAMP:20260425T232445
CREATED:20200411T214208Z
LAST-MODIFIED:20200411T214341Z
UID:2401-1586512800-1586516400@godollo.lutheran.hu
SUMMARY:NAGYPÉNTEK - PASSIÓ
DESCRIPTION:2020 HÚSVÉT -NAGYPÉNTEK PASSIÓ (április 10. 9:45-től)
URL:https://godollo.lutheran.hu/esemeny/nagypentek-passio/
END:VEVENT
BEGIN:VEVENT
DTSTART;VALUE=DATE:20200412
DTEND;VALUE=DATE:20200414
DTSTAMP:20260425T232445
CREATED:20200131T215510Z
LAST-MODIFIED:20200131T215510Z
UID:2333-1586649600-1586822399@godollo.lutheran.hu
SUMMARY:Húsvét
DESCRIPTION:
URL:https://godollo.lutheran.hu/esemeny/husvet-3/
END:VEVENT
BEGIN:VEVENT
DTSTART;TZID=Europe/Budapest:20200412T100000
DTEND;TZID=Europe/Budapest:20200412T110000
DTSTAMP:20260425T232445
CREATED:20200408T180312Z
LAST-MODIFIED:20200411T215125Z
UID:2385-1586685600-1586689200@godollo.lutheran.hu
SUMMARY:Húsvéti Istentisztelet - Online
DESCRIPTION:HÚSVÉT VASÁRNAP – ISTENTISZTELET\n \nÉNEK: 216 ; 5; 220
URL:https://godollo.lutheran.hu/esemeny/husveti-istentisztelet-urv-online/
END:VEVENT
BEGIN:VEVENT
DTSTART;TZID=Europe/Budapest:20200419T100000
DTEND;TZID=Europe/Budapest:20200419T110000
DTSTAMP:20260425T232445
CREATED:20200425T203446Z
LAST-MODIFIED:20200425T203446Z
UID:2424-1587290400-1587294000@godollo.lutheran.hu
SUMMARY:Április 19-i Istentisztelet
DESCRIPTION:Április 19. VASÁRNAP – ISTENTISZTELET\n \nÉnek: 357 ; 5 ; 389 ; 255
URL:https://godollo.lutheran.hu/esemeny/aprilis-19-i-istentisztelet/
END:VEVENT
BEGIN:VEVENT
DTSTART;TZID=Europe/Budapest:20200426T100000
DTEND;TZID=Europe/Budapest:20200426T110000
DTSTAMP:20260425T232445
CREATED:20200427T211102Z
LAST-MODIFIED:20200427T211102Z
UID:2436-1587895200-1587898800@godollo.lutheran.hu
SUMMARY:Április 26-i Istentisztelet
DESCRIPTION:Április 26. VASÁRNAP – ISTENTISZTELET\n \nÉnek: 265; 6; 452; 293 \nhttps://perselypenz.hu
URL:https://godollo.lutheran.hu/esemeny/aprilis-26-i-istentisztelet/
END:VEVENT
BEGIN:VEVENT
DTSTART;TZID=Europe/Budapest:20200503T100000
DTEND;TZID=Europe/Budapest:20200503T103000
DTSTAMP:20260425T232445
CREATED:20200509T220152Z
LAST-MODIFIED:20200509T220152Z
UID:2444-1588500000-1588501800@godollo.lutheran.hu
SUMMARY:Istentisztelet május 3.
DESCRIPTION:Május 3. VASÁRNAP – ISTENTISZTELET\nISTEN ÁLDÁSÁT KÉRJÜK AZ ÉDESANYÁKRA! \n \nÉnek: 42; 337 ; 5; 277
URL:https://godollo.lutheran.hu/esemeny/istentisztelet-majus-3/
END:VEVENT
BEGIN:VEVENT
DTSTART;TZID=Europe/Budapest:20200510T100000
DTEND;TZID=Europe/Budapest:20200510T103000
DTSTAMP:20260425T232445
CREATED:20200509T220233Z
LAST-MODIFIED:20200516T212346Z
UID:2446-1589104800-1589106600@godollo.lutheran.hu
SUMMARY:Istentisztelet május 10.
DESCRIPTION:Május 10. Cantate VASÁRNAP – ISTENTISZTELET\n \n  \nÉnekek: Ifi dalok \nOffertórium (perselypénz) befizetésre átutalással van most lehetőség vagy később is be lehet dobni a perselybe Egyházközségünk számára.\n„offertórium” megjelöléssel – számlaszám: 11742049-20126302. \nmár bankkártyával is lehet befizetni gyorsan\, egyszerűen:\nhttps://perselypenz.hu
URL:https://godollo.lutheran.hu/esemeny/istentisztelet-majus-10/
END:VEVENT
BEGIN:VEVENT
DTSTART;TZID=Europe/Budapest:20200517T100000
DTEND;TZID=Europe/Budapest:20200517T103000
DTSTAMP:20260425T232445
CREATED:20200523T202008Z
LAST-MODIFIED:20200523T202008Z
UID:2456-1589709600-1589711400@godollo.lutheran.hu
SUMMARY:Istentisztelet május 17. vasárnap
DESCRIPTION:Május 17. VASÁRNAP – ISTENTISZTELET\n \nOffertórium (perselypénz) befizetésre átutalással van most lehetőség vagy később is be lehet dobni a perselybe Egyházközségünk számára.\n„offertórium” megjelöléssel – számlaszám: 11742049-20126302. \nmár bankkártyával is lehet befizetni gyorsan\, egyszerűen:\nhttps://perselypenz.hu\n 
URL:https://godollo.lutheran.hu/esemeny/istentisztelet-majus-17-vasarnap/
END:VEVENT
BEGIN:VEVENT
DTSTART;TZID=Europe/Budapest:20200524T100000
DTEND;TZID=Europe/Budapest:20200524T110000
DTSTAMP:20260425T232445
CREATED:20200628T212223Z
LAST-MODIFIED:20200628T212223Z
UID:2472-1590314400-1590318000@godollo.lutheran.hu
SUMMARY:Istentisztelet Május 24
DESCRIPTION:
URL:https://godollo.lutheran.hu/esemeny/istentisztelet-majus-24/
END:VEVENT
BEGIN:VEVENT
DTSTART;VALUE=DATE:20200531
DTEND;VALUE=DATE:20200602
DTSTAMP:20260425T232445
CREATED:20200131T215419Z
LAST-MODIFIED:20200131T215419Z
UID:2331-1590883200-1591055999@godollo.lutheran.hu
SUMMARY:Pünkösd
DESCRIPTION:
URL:https://godollo.lutheran.hu/esemeny/punkosd-3/
END:VEVENT
BEGIN:VEVENT
DTSTART;TZID=Europe/Budapest:20200531T100000
DTEND;TZID=Europe/Budapest:20200531T110000
DTSTAMP:20260425T232445
CREATED:20200628T212332Z
LAST-MODIFIED:20200628T212332Z
UID:2474-1590919200-1590922800@godollo.lutheran.hu
SUMMARY:Istentisztelet Május 31
DESCRIPTION:
URL:https://godollo.lutheran.hu/esemeny/istentisztelet-majus-31/
END:VEVENT
BEGIN:VEVENT
DTSTART;VALUE=DATE:20200730
DTEND;VALUE=DATE:20200801
DTSTAMP:20260425T232445
CREATED:20200719T210539Z
LAST-MODIFIED:20200719T210539Z
UID:2496-1596067200-1596239999@godollo.lutheran.hu
SUMMARY:Parókia festés
DESCRIPTION:Kipakolunk\, letakarunk majd glettelés után fehérre festjük a parókiát. Ráfér már!!! Két nap alatt biztosan végezni fogunk!
URL:https://godollo.lutheran.hu/esemeny/parokia-festes/
END:VEVENT
BEGIN:VEVENT
DTSTART;TZID=Europe/Budapest:20200801T110000
DTEND;TZID=Europe/Budapest:20200801T160000
DTSTAMP:20260425T232445
CREATED:20200719T210357Z
LAST-MODIFIED:20200719T210357Z
UID:2494-1596279600-1596297600@godollo.lutheran.hu
SUMMARY:Presbiteri - kerti összejövetel
DESCRIPTION:A Parókián lehetünk együtt egy kötetlen – ámbár informatív és gondolkodó – együttléten.  Lelkészünk készít egy finom bográcsos ételt ebédre! \n11:00-tól lehet jönni\, reméljük jó idő lesz!
URL:https://godollo.lutheran.hu/esemeny/presbiteri-kerti-osszejovetel/
END:VEVENT
BEGIN:VEVENT
DTSTART;VALUE=DATE:20200825
DTEND;VALUE=DATE:20200829
DTSTAMP:20260425T232445
CREATED:20200705T065709Z
LAST-MODIFIED:20200705T071420Z
UID:2483-1598313600-1598659199@godollo.lutheran.hu
SUMMARY:Nyári Hittantábor 2020
DESCRIPTION:Idén is lesz Hittan táborunk! \nImmáron 11. alkalommal. \n Idei témánk: Kincs\n             ” Mert ahol van a ti kincsetek\, ott van a szívetek is.” Mt. 6.21 \nHelyszín: Gödöllői Evangélikus Parókia – Kossuth L.u2 \nJELENTKEZÉSI HATÁRIDŐ: Július 31 !!! \nNapi beosztás: reggel 8.30-tól  délután 17.00-ig\nA tábor során lesz sok sok játék\, kiscsoportos foglalkozás\, lovaglás\, kézműveskedés\, áhitat\, és zenélés! \n \nRészvétel gyülekezetünk gyermekei részére:\nTábori költségek: 7000 Ft/ fő\, testvér kedvezményre van lehetőség \n(2 testvér: 11.000 Ft\, 3 testvér: 14000 Ft) \nJelentkezés Joób Emesénél emailben (emesejoob@gmail.com) v. személyesen az alábbiak szerint: \n\nA mellékelt jelenkezési lapot kérjük kitölteni\, aláírni és emailen elküldeni v. behozni. HittanTábor_JELENTKEZÉSI-LAP2020\nA részvételi díjat kérjük átutalni a gyülekezet 11742049-20126302 számlaszámára\, megjegyzés rovatba kérjük: “Adomány tábor ’20 + Gyermek neve” vagy személyesen Joób Emesénél illetve Pénztárosunknál lehet befizetni.\n\n 
URL:https://godollo.lutheran.hu/esemeny/nyari-hittantabor-2020/
END:VEVENT
BEGIN:VEVENT
DTSTART;TZID=Europe/Budapest:20200830T120000
DTEND;TZID=Europe/Budapest:20200830T143000
DTSTAMP:20260425T232445
CREATED:20200812T213255Z
LAST-MODIFIED:20200812T213255Z
UID:2512-1598788800-1598797800@godollo.lutheran.hu
SUMMARY:Gyülekezeti nap
DESCRIPTION:Szokásunkhoz híven ezen a vasárnapon Istentiszteletünk évindító Istentisztelet lesz\, melyben gyermekeinket is megáldjuk\, hogy erőt merítsenek az elkövetkezendő iskolai esztendőre. \nIstentisztelet után déltől várunk mindenki a parókián gyülekezeti napra\, hogy egy tál étel elfogyasztása közben együtt lehessünk.  Reméljük\, hogy nem kell elhalasztanunk\, vagy lemondanunk az eseményt a vírus erősödése miatt!
URL:https://godollo.lutheran.hu/esemeny/gyulekezeti-nap-2/
END:VEVENT
BEGIN:VEVENT
DTSTART;TZID=Europe/Budapest:20200927T100000
DTEND;TZID=Europe/Budapest:20200927T110000
DTSTAMP:20260425T232445
CREATED:20200812T212546Z
LAST-MODIFIED:20200929T203524Z
UID:2508-1601200800-1601204400@godollo.lutheran.hu
SUMMARY:Hálaadó Istentisztelet - Tetőnk megújulásáért
DESCRIPTION:A HÉTEN elkészül a tető!\nSzeptember 27-én a vasárnapi Istentisztelet egyben Hálaadó Istentisztelet is lesz a Tető felújításért\, amely Istentiszteletet lelkészünk mellett Fabiny Tamás elnök-püspök és a Mandák kórus szolgálata teszi emlékezetesebbé. \nReméljük az időjárás engedi\, és az Istentiszteletet követően a templom előtti téren meg tudjuk tartani a tervezett szeretetvendégséget\, miközben megcsodálhatjuk az elkészült új tetőt. Várjuk a finom süteményeket\, pogácsát és italokat! \nA héten befejeződik a templomunk tetőfedésének felújítása. Az állványzatok lebontása után már csak apróbb munkák maradnak vissza\, de a tető és a csatorna rendszer átadásra kerülnek.  Az önkormányzat felelősével leegyeztetésre került\, hogy a csatornából lefolyó vizet el kell vezetni a falaktól. A templom mellett ezért szikkasztókat fogunk létrehozni a későbbiekben\, hogy ne a falak ázzanak. \nFolyamatosan lefestésre kerültek a türkisz-zöld széldeszka elemek is. A szerkezetbe bekerültek a mai kornak megfelelő rétegek (szigetelő\, fóliák\, lécek stb…). Kicserélték a „lyukat” is\, amelyet láthattunk belül a bal oldalon fent. Idősebbek szerint „mindig ott volt”. \nKérjük az Istentiszteleten a higiéné betartását\, a másokra való odafigyelést!
URL:https://godollo.lutheran.hu/esemeny/halaado-istentisztelet-tetonk-megujulasaert/
END:VEVENT
END:VCALENDAR