BEGIN:VCALENDAR
VERSION:2.0
PRODID:-//Gödöllői Evangélikus Egyházközség - ECPv6.15.20//NONSGML v1.0//EN
CALSCALE:GREGORIAN
METHOD:PUBLISH
X-ORIGINAL-URL:https://godollo.lutheran.hu
X-WR-CALDESC:Események Gödöllői Evangélikus Egyházközség
REFRESH-INTERVAL;VALUE=DURATION:PT1H
X-Robots-Tag:noindex
X-PUBLISHED-TTL:PT1H
BEGIN:VTIMEZONE
TZID:Europe/Budapest
BEGIN:DAYLIGHT
TZOFFSETFROM:+0100
TZOFFSETTO:+0200
TZNAME:CEST
DTSTART:20240331T010000
END:DAYLIGHT
BEGIN:STANDARD
TZOFFSETFROM:+0200
TZOFFSETTO:+0100
TZNAME:CET
DTSTART:20241027T010000
END:STANDARD
BEGIN:DAYLIGHT
TZOFFSETFROM:+0100
TZOFFSETTO:+0200
TZNAME:CEST
DTSTART:20250330T010000
END:DAYLIGHT
BEGIN:STANDARD
TZOFFSETFROM:+0200
TZOFFSETTO:+0100
TZNAME:CET
DTSTART:20251026T010000
END:STANDARD
BEGIN:DAYLIGHT
TZOFFSETFROM:+0100
TZOFFSETTO:+0200
TZNAME:CEST
DTSTART:20260329T010000
END:DAYLIGHT
BEGIN:STANDARD
TZOFFSETFROM:+0200
TZOFFSETTO:+0100
TZNAME:CET
DTSTART:20261025T010000
END:STANDARD
END:VTIMEZONE
BEGIN:VEVENT
DTSTART;VALUE=DATE:20251101
DTEND;VALUE=DATE:20251103
DTSTAMP:20260424T062427
CREATED:20250904T200556Z
LAST-MODIFIED:20250904T200556Z
UID:4246-1761955200-1762127999@godollo.lutheran.hu
SUMMARY:Mindenszentek
DESCRIPTION:
URL:https://godollo.lutheran.hu/esemeny/mindenszentek/
END:VEVENT
BEGIN:VEVENT
DTSTART;TZID=Europe/Budapest:20251109T160000
DTEND;TZID=Europe/Budapest:20251109T170000
DTSTAMP:20260424T062427
CREATED:20250107T100436Z
LAST-MODIFIED:20250107T100436Z
UID:4082-1762704000-1762707600@godollo.lutheran.hu
SUMMARY:Családi Istentisztelet
DESCRIPTION:Minden hónap második vasárnapján 16:00 órai kezdettel tartunk családi istentiszteletet.\nEzen alkalmak liturgiája eltér a hagyományos istentiszteletekétől\, rövidebb\, kissé kötetlenebb\, a gyermekes családok “szabadon”\, feszélyezettség nélkül vehetnek részt gyermekeinkkel együtt az Istentiszteleten. A templom után a parókián folytatódik az együttlét\, gyermekeinknek közös játékkal\, a felnőttek pedig beszélgethetnek. Mindez gyümölcs\, sütemény\, tea társaságában\, amelyet minden alkalommal másik család szolgálata biztosít.
URL:https://godollo.lutheran.hu/esemeny/csaladi-istentisztelet-8/
END:VEVENT
BEGIN:VEVENT
DTSTART;VALUE=DATE:20251128
DTEND;VALUE=DATE:20251220
DTSTAMP:20260424T062427
CREATED:20251021T113505Z
LAST-MODIFIED:20251021T113505Z
UID:4301-1764288000-1766188799@godollo.lutheran.hu
SUMMARY:Adventi orgonakoncert sorozat
DESCRIPTION:Hagyomány szerint Gödöllőn \,az Evangélikus templomban 3. alkalommal kerül megrendezésre az adventi orgonakoncert sorozat. \nPéntekenként 19:00 kezdettel várunk minden zeneszeretőt egy kis adventi hangolódásra\,  pihenésre és feltöltődésre.
URL:https://godollo.lutheran.hu/esemeny/adventi-orgonakoncert-sorozat/
END:VEVENT
BEGIN:VEVENT
DTSTART;VALUE=DATE:20251130
DTEND;VALUE=DATE:20251201
DTSTAMP:20260424T062427
CREATED:20250904T200632Z
LAST-MODIFIED:20250904T200632Z
UID:4248-1764460800-1764547199@godollo.lutheran.hu
SUMMARY:Advent 1
DESCRIPTION:
URL:https://godollo.lutheran.hu/esemeny/advent-1-2/
END:VEVENT
END:VCALENDAR