BEGIN:VCALENDAR
VERSION:2.0
PRODID:-//Gödöllői Evangélikus Egyházközség - ECPv6.15.20//NONSGML v1.0//EN
CALSCALE:GREGORIAN
METHOD:PUBLISH
X-ORIGINAL-URL:https://godollo.lutheran.hu
X-WR-CALDESC:Események Gödöllői Evangélikus Egyházközség
REFRESH-INTERVAL;VALUE=DURATION:PT1H
X-Robots-Tag:noindex
X-PUBLISHED-TTL:PT1H
BEGIN:VTIMEZONE
TZID:Europe/Budapest
BEGIN:DAYLIGHT
TZOFFSETFROM:+0100
TZOFFSETTO:+0200
TZNAME:CEST
DTSTART:20180325T010000
END:DAYLIGHT
BEGIN:STANDARD
TZOFFSETFROM:+0200
TZOFFSETTO:+0100
TZNAME:CET
DTSTART:20181028T010000
END:STANDARD
BEGIN:DAYLIGHT
TZOFFSETFROM:+0100
TZOFFSETTO:+0200
TZNAME:CEST
DTSTART:20190331T010000
END:DAYLIGHT
BEGIN:STANDARD
TZOFFSETFROM:+0200
TZOFFSETTO:+0100
TZNAME:CET
DTSTART:20191027T010000
END:STANDARD
BEGIN:DAYLIGHT
TZOFFSETFROM:+0100
TZOFFSETTO:+0200
TZNAME:CEST
DTSTART:20200329T010000
END:DAYLIGHT
BEGIN:STANDARD
TZOFFSETFROM:+0200
TZOFFSETTO:+0100
TZNAME:CET
DTSTART:20201025T010000
END:STANDARD
END:VTIMEZONE
BEGIN:VEVENT
DTSTART;TZID=Europe/Budapest:20191005T080000
DTEND;TZID=Europe/Budapest:20191005T170000
DTSTAMP:20260424T055909
CREATED:20190802T094214Z
LAST-MODIFIED:20190925T141411Z
UID:2167-1570262400-1570294800@godollo.lutheran.hu
SUMMARY:Gyülekezeti kirándulás
DESCRIPTION:GYÜLEKEZETI ŐSZI KIRÁNDULÁS BUSSZAL \nIdén is – mint minden évben – megyünk kirándulni: BAKONYBÉL a célállomás\, ahol a természet szépsége mellet megtekinthetjük az 1018-ban Szent István király alapította monostort is többek között. \nVisszaúton Móron állunk a  „Móri bornapokon” \, ahol a kitelepülő helyi pincék borait kóstolgathatjuk (önköltséges) \, elkeveredve a fesztiválban. \n\nMonostor \n\nPincesor Móron \nJelentkezni lehet Dudás Erzsébet testvérünknél.\nAz utazás költsége 3000 Ft/fő \nÍzelítőként a múlt évi képek :  kattints ide! \n  \n 
URL:https://godollo.lutheran.hu/esemeny/gyulekezeti-kirandulas/
END:VEVENT
BEGIN:VEVENT
DTSTART;TZID=Europe/Budapest:20191012T100000
DTEND;TZID=Europe/Budapest:20191012T160000
DTSTAMP:20260424T055909
CREATED:20190904T083953Z
LAST-MODIFIED:20190904T083953Z
UID:2246-1570874400-1570896000@godollo.lutheran.hu
SUMMARY:Országos evangelizáció 2019
DESCRIPTION:Kétség és bizonyosság – Országos evangelizáció 2019\nKorunk egyik jellemzője a bizonytalanság. Minden viszonylagossá vált. Bűn-e a kételkedés\, a bizonytalanság? Van-e biztos pont a hitünkben\, az etikai kérdésekben? Ilyen és hasonló kérdésekkel foglalkozunk az országos evangelizáción október 12-én a Deák téri evangélikus templomban. A hitébresztő igehirdetések mellett tanúságtételeket hallhatunk majd Olaj-Rabóczky Anett életvédőtől és Lackfi János költőtől. \nteljes cikk megtekintése: kattints ide
URL:https://godollo.lutheran.hu/esemeny/orszagos-evangelizacio-2019/
END:VEVENT
BEGIN:VEVENT
DTSTART;VALUE=DATE:20191031
DTEND;VALUE=DATE:20191101
DTSTAMP:20260424T055909
CREATED:20181226T222035Z
LAST-MODIFIED:20181226T222035Z
UID:2034-1572480000-1572566399@godollo.lutheran.hu
SUMMARY:Reformáció napja
DESCRIPTION:
URL:https://godollo.lutheran.hu/esemeny/reformacio-napja/
END:VEVENT
END:VCALENDAR