BEGIN:VCALENDAR
VERSION:2.0
PRODID:-//Gödöllői Evangélikus Egyházközség - ECPv6.15.20//NONSGML v1.0//EN
CALSCALE:GREGORIAN
METHOD:PUBLISH
X-ORIGINAL-URL:https://godollo.lutheran.hu
X-WR-CALDESC:Események Gödöllői Evangélikus Egyházközség
REFRESH-INTERVAL;VALUE=DURATION:PT1H
X-Robots-Tag:noindex
X-PUBLISHED-TTL:PT1H
BEGIN:VTIMEZONE
TZID:Europe/Budapest
BEGIN:DAYLIGHT
TZOFFSETFROM:+0100
TZOFFSETTO:+0200
TZNAME:CEST
DTSTART:20180325T010000
END:DAYLIGHT
BEGIN:STANDARD
TZOFFSETFROM:+0200
TZOFFSETTO:+0100
TZNAME:CET
DTSTART:20181028T010000
END:STANDARD
BEGIN:DAYLIGHT
TZOFFSETFROM:+0100
TZOFFSETTO:+0200
TZNAME:CEST
DTSTART:20190331T010000
END:DAYLIGHT
BEGIN:STANDARD
TZOFFSETFROM:+0200
TZOFFSETTO:+0100
TZNAME:CET
DTSTART:20191027T010000
END:STANDARD
BEGIN:DAYLIGHT
TZOFFSETFROM:+0100
TZOFFSETTO:+0200
TZNAME:CEST
DTSTART:20200329T010000
END:DAYLIGHT
BEGIN:STANDARD
TZOFFSETFROM:+0200
TZOFFSETTO:+0100
TZNAME:CET
DTSTART:20201025T010000
END:STANDARD
END:VTIMEZONE
BEGIN:VEVENT
DTSTART;TZID=Europe/Budapest:20190414T160000
DTEND;TZID=Europe/Budapest:20190414T180000
DTSTAMP:20260425T060747
CREATED:20190402T105806Z
LAST-MODIFIED:20190414T220108Z
UID:2074-1555257600-1555264800@godollo.lutheran.hu
SUMMARY:Virágvasárnap - szeretetvendégség
DESCRIPTION:Ez évben egy gyönyörű koncerttel készülhetünk a nagyhétre. A koncert után szokás szerint szeretetvendégség lesz a parókián. \n \n 
URL:https://godollo.lutheran.hu/esemeny/viragvasarnap-szeretetvendegseg-3/
END:VEVENT
BEGIN:VEVENT
DTSTART;TZID=Europe/Budapest:20190417T190000
DTEND;TZID=Europe/Budapest:20190417T190000
DTSTAMP:20260425T060747
CREATED:20190408T211859Z
LAST-MODIFIED:20190408T211859Z
UID:2096-1555527600-1555527600@godollo.lutheran.hu
SUMMARY:Lamentációs istentisztelet
DESCRIPTION:Lamentációs istentisztelet a premontrei testvérekkel \nGödöllő 19:00
URL:https://godollo.lutheran.hu/esemeny/lamentacios-istentisztelet-2/
END:VEVENT
BEGIN:VEVENT
DTSTART;TZID=Europe/Budapest:20190419T083000
DTEND;TZID=Europe/Budapest:20190419T110000
DTSTAMP:20260425T060747
CREATED:20190402T110246Z
LAST-MODIFIED:20190402T110258Z
UID:2077-1555662600-1555671600@godollo.lutheran.hu
SUMMARY:Nagypéntek - Istentisztelet
DESCRIPTION:Nagypéntek – Istentisztelet \nVeresegyház 8:30\nGödöllő 10:00
URL:https://godollo.lutheran.hu/esemeny/2077/
END:VEVENT
BEGIN:VEVENT
DTSTART;VALUE=DATE:20190421
DTEND;VALUE=DATE:20190423
DTSTAMP:20260425T060747
CREATED:20181226T221830Z
LAST-MODIFIED:20190402T110351Z
UID:2030-1555804800-1555977599@godollo.lutheran.hu
SUMMARY:Húsvét
DESCRIPTION:2018.04.21.\nHúsvét\nVeresegyház \nGödöllő \nIsaszeg\n08.30 \n10.00 \n11.45\núrv \núrv \núrv\n\n\n2018.04.22.\nHúsvét\nVeresegyház Gödöllő\n08.30 \n10.00\n  \núrv.
URL:https://godollo.lutheran.hu/esemeny/husvet-2/
END:VEVENT
END:VCALENDAR