BEGIN:VCALENDAR
VERSION:2.0
PRODID:-//Gödöllői Evangélikus Egyházközség - ECPv6.15.20//NONSGML v1.0//EN
CALSCALE:GREGORIAN
METHOD:PUBLISH
X-ORIGINAL-URL:https://godollo.lutheran.hu
X-WR-CALDESC:Események Gödöllői Evangélikus Egyházközség
REFRESH-INTERVAL;VALUE=DURATION:PT1H
X-Robots-Tag:noindex
X-PUBLISHED-TTL:PT1H
BEGIN:VTIMEZONE
TZID:Europe/Budapest
BEGIN:DAYLIGHT
TZOFFSETFROM:+0100
TZOFFSETTO:+0200
TZNAME:CEST
DTSTART:20250330T010000
END:DAYLIGHT
BEGIN:STANDARD
TZOFFSETFROM:+0200
TZOFFSETTO:+0100
TZNAME:CET
DTSTART:20251026T010000
END:STANDARD
BEGIN:DAYLIGHT
TZOFFSETFROM:+0100
TZOFFSETTO:+0200
TZNAME:CEST
DTSTART:20260329T010000
END:DAYLIGHT
BEGIN:STANDARD
TZOFFSETFROM:+0200
TZOFFSETTO:+0100
TZNAME:CET
DTSTART:20261025T010000
END:STANDARD
BEGIN:DAYLIGHT
TZOFFSETFROM:+0100
TZOFFSETTO:+0200
TZNAME:CEST
DTSTART:20270328T010000
END:DAYLIGHT
BEGIN:STANDARD
TZOFFSETFROM:+0200
TZOFFSETTO:+0100
TZNAME:CET
DTSTART:20271031T010000
END:STANDARD
END:VTIMEZONE
BEGIN:VEVENT
DTSTART;TZID=Europe/Budapest:20260329T160000
DTEND;TZID=Europe/Budapest:20260329T173000
DTSTAMP:20260424T061659
CREATED:20260310T083507Z
LAST-MODIFIED:20260315T082118Z
UID:4434-1774800000-1774805400@godollo.lutheran.hu
SUMMARY:SZERETETVENDÉGSÉG
DESCRIPTION:Hagyomány szerint virágvasárnap 16:00-tól tartunk szeretetvendégséget. \nIdei vendégünk: Dr. Szabó B. András  \nMinden kedves testvért szeretettel várunk a gyülekezeti terembe.\nAki tud\, hozzon süteményt\, gyümölcsöt\, hogy igazi vendésgében lehessünk együtt. \n \n \n  \n 
URL:https://godollo.lutheran.hu/esemeny/szeretetvendegseg-4/
END:VEVENT
END:VCALENDAR