BEGIN:VCALENDAR
VERSION:2.0
PRODID:-//Gödöllői Evangélikus Egyházközség - ECPv6.15.20//NONSGML v1.0//EN
CALSCALE:GREGORIAN
METHOD:PUBLISH
X-ORIGINAL-URL:https://godollo.lutheran.hu
X-WR-CALDESC:Események Gödöllői Evangélikus Egyházközség
REFRESH-INTERVAL;VALUE=DURATION:PT1H
X-Robots-Tag:noindex
X-PUBLISHED-TTL:PT1H
BEGIN:VTIMEZONE
TZID:Europe/Budapest
BEGIN:DAYLIGHT
TZOFFSETFROM:+0100
TZOFFSETTO:+0200
TZNAME:CEST
DTSTART:20250330T010000
END:DAYLIGHT
BEGIN:STANDARD
TZOFFSETFROM:+0200
TZOFFSETTO:+0100
TZNAME:CET
DTSTART:20251026T010000
END:STANDARD
BEGIN:DAYLIGHT
TZOFFSETFROM:+0100
TZOFFSETTO:+0200
TZNAME:CEST
DTSTART:20260329T010000
END:DAYLIGHT
BEGIN:STANDARD
TZOFFSETFROM:+0200
TZOFFSETTO:+0100
TZNAME:CET
DTSTART:20261025T010000
END:STANDARD
BEGIN:DAYLIGHT
TZOFFSETFROM:+0100
TZOFFSETTO:+0200
TZNAME:CEST
DTSTART:20270328T010000
END:DAYLIGHT
BEGIN:STANDARD
TZOFFSETFROM:+0200
TZOFFSETTO:+0100
TZNAME:CET
DTSTART:20271031T010000
END:STANDARD
END:VTIMEZONE
BEGIN:VEVENT
DTSTART;TZID=Europe/Budapest:20260201T170000
DTEND;TZID=Europe/Budapest:20260201T180000
DTSTAMP:20260424T155414
CREATED:20251226T184403Z
LAST-MODIFIED:20260104T193211Z
UID:4361-1769965200-1769968800@godollo.lutheran.hu
SUMMARY:William Byrd kórus koncertje
DESCRIPTION:A Budafoki William Byrd kórus szokás szerint ellátogat hozzánk idei év elején ismét. Csodálatos koncert élményben lehet része annak\, aki eljön templomunkba ezen az estén !
URL:https://godollo.lutheran.hu/esemeny/william-byrd-korus-koncertje-2/
END:VEVENT
END:VCALENDAR