BEGIN:VCALENDAR
VERSION:2.0
PRODID:-//Gödöllői Evangélikus Egyházközség - ECPv6.15.20//NONSGML v1.0//EN
CALSCALE:GREGORIAN
METHOD:PUBLISH
X-WR-CALNAME:Gödöllői Evangélikus Egyházközség
X-ORIGINAL-URL:https://godollo.lutheran.hu
X-WR-CALDESC:Események Gödöllői Evangélikus Egyházközség
REFRESH-INTERVAL;VALUE=DURATION:PT1H
X-Robots-Tag:noindex
X-PUBLISHED-TTL:PT1H
BEGIN:VTIMEZONE
TZID:Europe/Budapest
BEGIN:DAYLIGHT
TZOFFSETFROM:+0100
TZOFFSETTO:+0200
TZNAME:CEST
DTSTART:20250330T010000
END:DAYLIGHT
BEGIN:STANDARD
TZOFFSETFROM:+0200
TZOFFSETTO:+0100
TZNAME:CET
DTSTART:20251026T010000
END:STANDARD
BEGIN:DAYLIGHT
TZOFFSETFROM:+0100
TZOFFSETTO:+0200
TZNAME:CEST
DTSTART:20260329T010000
END:DAYLIGHT
BEGIN:STANDARD
TZOFFSETFROM:+0200
TZOFFSETTO:+0100
TZNAME:CET
DTSTART:20261025T010000
END:STANDARD
BEGIN:DAYLIGHT
TZOFFSETFROM:+0100
TZOFFSETTO:+0200
TZNAME:CEST
DTSTART:20270328T010000
END:DAYLIGHT
BEGIN:STANDARD
TZOFFSETFROM:+0200
TZOFFSETTO:+0100
TZNAME:CET
DTSTART:20271031T010000
END:STANDARD
END:VTIMEZONE
BEGIN:VEVENT
DTSTART;VALUE=DATE:20260119
DTEND;VALUE=DATE:20260126
DTSTAMP:20260424T174023
CREATED:20260115T143325Z
LAST-MODIFIED:20260115T153356Z
UID:4377-1768780800-1769385599@godollo.lutheran.hu
SUMMARY:Ökumenikus imahét 2026
DESCRIPTION:Kedves Gyülekezeti testvérek! \nA program szerint keddi napon leszünk mi a házigazdák\, szokás szerint szeretetvendégséggel. Kérek minden gyülekezeti tagot\, hogy segítse a vendéglátást süteménnyel\, pogácsával\, szendviccsel. \nVárjuk segítők jelentkezését asztalok kivitelére\, forraltbor készítéshez!  Jelentkezni lehet felügyelő úrnál – emailen a godollo@lutheran.hu címen ! \n  \n\n\n\n\nÖKUMENIKUS IMAHÉT 2026 GÖDÖLLŐ\n18:00 kezdettel\n\n\nJANUÁR\n\n\n\n19. hétfő\nSzentháromság-templom\n\n\nKertészné Bikki Boglárka református lelkész\n\n\n20. kedd\nEvangélikus templom (Szeretetvendégség)\n\n\nMarco Faccioli kapucinus szerzetes\n\n\n21. szerda\nMáriabesnyői Bazilika\n\n\nAlbert Gábor evangélikus lelkész\n\n\n22. csütörtök\nGörögkatolikus templom\n\n\nLőrik Levente baptista lelkipásztor\n\n\n23. péntek\nBaptista imaház\n\n\nGulybán Gergely görögkatolikus parókus\n\n\n24. szombat\nReformátus templom\n\n\nGodzsa István premontrei szerzetes
URL:https://godollo.lutheran.hu/esemeny/okumenikus-imahet-2026/
END:VEVENT
END:VCALENDAR