BEGIN:VCALENDAR
VERSION:2.0
PRODID:-//Gödöllői Evangélikus Egyházközség - ECPv6.15.20//NONSGML v1.0//EN
CALSCALE:GREGORIAN
METHOD:PUBLISH
X-ORIGINAL-URL:https://godollo.lutheran.hu
X-WR-CALDESC:Események Gödöllői Evangélikus Egyházközség
REFRESH-INTERVAL;VALUE=DURATION:PT1H
X-Robots-Tag:noindex
X-PUBLISHED-TTL:PT1H
BEGIN:VTIMEZONE
TZID:Europe/Budapest
BEGIN:DAYLIGHT
TZOFFSETFROM:+0100
TZOFFSETTO:+0200
TZNAME:CEST
DTSTART:20240331T010000
END:DAYLIGHT
BEGIN:STANDARD
TZOFFSETFROM:+0200
TZOFFSETTO:+0100
TZNAME:CET
DTSTART:20241027T010000
END:STANDARD
BEGIN:DAYLIGHT
TZOFFSETFROM:+0100
TZOFFSETTO:+0200
TZNAME:CEST
DTSTART:20250330T010000
END:DAYLIGHT
BEGIN:STANDARD
TZOFFSETFROM:+0200
TZOFFSETTO:+0100
TZNAME:CET
DTSTART:20251026T010000
END:STANDARD
BEGIN:DAYLIGHT
TZOFFSETFROM:+0100
TZOFFSETTO:+0200
TZNAME:CEST
DTSTART:20260329T010000
END:DAYLIGHT
BEGIN:STANDARD
TZOFFSETFROM:+0200
TZOFFSETTO:+0100
TZNAME:CET
DTSTART:20261025T010000
END:STANDARD
END:VTIMEZONE
BEGIN:VEVENT
DTSTART;VALUE=DATE:20250825
DTEND;VALUE=DATE:20250829
DTSTAMP:20260424T045004
CREATED:20250619T065824Z
LAST-MODIFIED:20250619T070943Z
UID:4202-1756080000-1756425599@godollo.lutheran.hu
SUMMARY:HITTAN TÁBOR 2025
DESCRIPTION:GYERMEKEK A BIBLIÁBAN \nIdei nyári táborunk a szokásos időben kerül megrendezésre\, fantasztikus programokkal! \nSzokás szerint nyár utolsó hetében: AUG 25-28 hétfőtől csütörtökig \nIdén is max 40 fő táborozását tudjuk megoldani!! \nHelyszín a gyülekezeti ház és kert:\nGödöllői Evangélikus Parókia – Kossuth L.u2 \nJELENTKEZÉSI HATÁRIDŐ: 2025 július 31 !!! \nNapi beosztás: reggel 8.30-tól  délután 17.00-ig\nA tábor során lesz sok sok játék\, kiscsoportos foglalkozás\, kézműveskedés\, bábozás\, íjazás\, fánk\, zenélés és áhitat! \nRészvétel gyülekezetünk gyermekei részére:\nTábori költségek: 15.000 Ft/ fő\, testvér kedvezményre van lehetőség \n(2 testvér: 13.000 Ft/gyermek\, 3 testvér: 12.000 Ft/gyermek) \nJelentkezés Joób Emesénél emailben (emesejoob@gmail.com) v. személyesen az alábbiak szerint:  HittanTábor_JELENTKEZÉSI-LAP2025 \n\nA mellékelt jelentkezési lapot kérjük kitölteni\, aláírni és emailen elküldeni v. behozni.\nA részvételi díjat kérjük befizetni vagy átutalni a gyülekezet 11742049-20126302 számlaszámára\nmegjegyzés rovatba kérjük: “Adomány tábor ’25 + Gyermek neve” \nKártyás fizetés: https://perselypenz.lutheran.hu/ \, itt értelem szerűen kérjük kitölteni\n\nSzemélyesen Joób Emesénél illetve Pénztárosunknál lehet befizetni.\n\nRészletes program: \n\n\n\n \nHétfő\nKedd\nSzerda\nCsütörtök\nVasárnap\n\n\nReggeli\n \n \n \n \n \n\n\n  \nDélelőtti \nprogram \n \nÁHITAT\n(Téma: Gyermekek akik fontosak Jézus számára Lk 18.15-17) \n  \nBizalom \, őszinteség. \nIlyeneké az Isten országa. \nTéma feldolgozás\nÁHITAT\n(Téma: Mózes – a megmentett gyermek 2Móz1-10) \nA megmentett gyermek \, aki a szabadulás vezetője lesz \nTéma feldolgozás\nÁHITAT\n(Téma: Sámuel- a megszólitott gyermek 1 Sám3.1-11) \nAz Isten szavát meghalló gyermek akiből próféta lesz \nTéma feldolgozás\nÁHITAT\n(Téma: A kaperrnaumi királyi tisztviselő gyermeke Jn4.46-54) \n  \nA féltett gyermek\, akit Jézusra bíztak \n \nTanévnyitó Istentisztelet \n  \nOltár előtti úti áldással\n\n\nEbéd\n \n \n \n \n \n\n\n  \nDélutáni \nprogram \n \nCSOPORTFOGLAKOZÁS \nMESE FA \nBábelőadás/ Táncház\nCSOPORTFOGLAKOZÁS \nLáthatatlan színház\nCSOPORTFOGLAKOZÁS \n  \nKÉZMŰVES mesterségek ismertetése( fánk sütés)\nCSOPORTFOGLAKOZÁS \nLovaglás/ Íjászat \n  \nMorzsaszedés\nGyülekezeti napi közös ebédfogyasztás\n\n\nVacsora\n \n \n \n \n \n\n\n  \nEsti program \n \nÁhitat \n  \nZenés \ndicséretekkel\nÁhitat \n  \nZenés \ndicséretekkel\nÁhitat \n  \nZenés \ndicséretekkel\nÁhitat \n  \nZenés \ndicséretekkel\nRendrakás/ elpakolás
URL:https://godollo.lutheran.hu/esemeny/hittan-tabor-2025/
END:VEVENT
END:VCALENDAR