BEGIN:VCALENDAR
VERSION:2.0
PRODID:-//Gödöllői Evangélikus Egyházközség - ECPv6.15.20//NONSGML v1.0//EN
CALSCALE:GREGORIAN
METHOD:PUBLISH
X-ORIGINAL-URL:https://godollo.lutheran.hu
X-WR-CALDESC:Események Gödöllői Evangélikus Egyházközség
REFRESH-INTERVAL;VALUE=DURATION:PT1H
X-Robots-Tag:noindex
X-PUBLISHED-TTL:PT1H
BEGIN:VTIMEZONE
TZID:Europe/Budapest
BEGIN:DAYLIGHT
TZOFFSETFROM:+0100
TZOFFSETTO:+0200
TZNAME:CEST
DTSTART:20180325T010000
END:DAYLIGHT
BEGIN:STANDARD
TZOFFSETFROM:+0200
TZOFFSETTO:+0100
TZNAME:CET
DTSTART:20181028T010000
END:STANDARD
BEGIN:DAYLIGHT
TZOFFSETFROM:+0100
TZOFFSETTO:+0200
TZNAME:CEST
DTSTART:20190331T010000
END:DAYLIGHT
BEGIN:STANDARD
TZOFFSETFROM:+0200
TZOFFSETTO:+0100
TZNAME:CET
DTSTART:20191027T010000
END:STANDARD
BEGIN:DAYLIGHT
TZOFFSETFROM:+0100
TZOFFSETTO:+0200
TZNAME:CEST
DTSTART:20200329T010000
END:DAYLIGHT
BEGIN:STANDARD
TZOFFSETFROM:+0200
TZOFFSETTO:+0100
TZNAME:CET
DTSTART:20201025T010000
END:STANDARD
END:VTIMEZONE
BEGIN:VEVENT
DTSTART;TZID=Europe/Budapest:20191012T100000
DTEND;TZID=Europe/Budapest:20191012T160000
DTSTAMP:20260424T055936
CREATED:20190904T083953Z
LAST-MODIFIED:20190904T083953Z
UID:2246-1570874400-1570896000@godollo.lutheran.hu
SUMMARY:Országos evangelizáció 2019
DESCRIPTION:Kétség és bizonyosság – Országos evangelizáció 2019\nKorunk egyik jellemzője a bizonytalanság. Minden viszonylagossá vált. Bűn-e a kételkedés\, a bizonytalanság? Van-e biztos pont a hitünkben\, az etikai kérdésekben? Ilyen és hasonló kérdésekkel foglalkozunk az országos evangelizáción október 12-én a Deák téri evangélikus templomban. A hitébresztő igehirdetések mellett tanúságtételeket hallhatunk majd Olaj-Rabóczky Anett életvédőtől és Lackfi János költőtől. \nteljes cikk megtekintése: kattints ide
URL:https://godollo.lutheran.hu/esemeny/orszagos-evangelizacio-2019/
END:VEVENT
END:VCALENDAR