BEGIN:VCALENDAR
VERSION:2.0
PRODID:-//Gödöllői Evangélikus Egyházközség - ECPv6.15.20//NONSGML v1.0//EN
CALSCALE:GREGORIAN
METHOD:PUBLISH
X-ORIGINAL-URL:https://godollo.lutheran.hu
X-WR-CALDESC:Események Gödöllői Evangélikus Egyházközség
REFRESH-INTERVAL;VALUE=DURATION:PT1H
X-Robots-Tag:noindex
X-PUBLISHED-TTL:PT1H
BEGIN:VTIMEZONE
TZID:Europe/Budapest
BEGIN:DAYLIGHT
TZOFFSETFROM:+0100
TZOFFSETTO:+0200
TZNAME:CEST
DTSTART:20180325T010000
END:DAYLIGHT
BEGIN:STANDARD
TZOFFSETFROM:+0200
TZOFFSETTO:+0100
TZNAME:CET
DTSTART:20181028T010000
END:STANDARD
BEGIN:DAYLIGHT
TZOFFSETFROM:+0100
TZOFFSETTO:+0200
TZNAME:CEST
DTSTART:20190331T010000
END:DAYLIGHT
BEGIN:STANDARD
TZOFFSETFROM:+0200
TZOFFSETTO:+0100
TZNAME:CET
DTSTART:20191027T010000
END:STANDARD
BEGIN:DAYLIGHT
TZOFFSETFROM:+0100
TZOFFSETTO:+0200
TZNAME:CEST
DTSTART:20200329T010000
END:DAYLIGHT
BEGIN:STANDARD
TZOFFSETFROM:+0200
TZOFFSETTO:+0100
TZNAME:CET
DTSTART:20201025T010000
END:STANDARD
END:VTIMEZONE
BEGIN:VEVENT
DTSTART;TZID=Europe/Budapest:20190801T080000
DTEND;TZID=Europe/Budapest:20190802T163000
DTSTAMP:20260424T055951
CREATED:20190715T100854Z
LAST-MODIFIED:20190715T101002Z
UID:2156-1564646400-1564763400@godollo.lutheran.hu
SUMMARY:PARÓKIA TEREM KIFESTÉS
DESCRIPTION:Múlt nyárhoz hasonlóan idei évben is 2 napot tervezünk szorgoskodni. \nMúlt évben lomtalanítottunk és a parókia homlokzatát ill. a templom egyes belső részeit festettük le. Főleg Ifik\, de gyülekezeti tagok is segítettek. \nHa el tudsz jönni\, akár 2-3 órára is\, vagy csak egyik nap stb…minden segítség hasznos lehet. \nIdei Terv:  \nIdén a parókia nagytermét festenénk ki\, falait javítanánk le. Ehhez ki kell pakolni\, majd a festést követően vissza. Ha elegen leszünk\, a lelkészlak kapuját is megjavíthatjuk.
URL:https://godollo.lutheran.hu/esemeny/parokia-terem-kifestes/
END:VEVENT
END:VCALENDAR